BEGIN:VCALENDAR
VERSION:2.0
PRODID:-//Barbara Bischof - ECPv6.15.20//NONSGML v1.0//EN
CALSCALE:GREGORIAN
METHOD:PUBLISH
X-WR-CALNAME:Barbara Bischof
X-ORIGINAL-URL:https://coaching-und-trauerbegleitung.de
X-WR-CALDESC:Veranstaltungen für Barbara Bischof
REFRESH-INTERVAL;VALUE=DURATION:PT1H
X-Robots-Tag:noindex
X-PUBLISHED-TTL:PT1H
BEGIN:VTIMEZONE
TZID:Europe/Berlin
BEGIN:DAYLIGHT
TZOFFSETFROM:+0100
TZOFFSETTO:+0200
TZNAME:CEST
DTSTART:20240331T010000
END:DAYLIGHT
BEGIN:STANDARD
TZOFFSETFROM:+0200
TZOFFSETTO:+0100
TZNAME:CET
DTSTART:20241027T010000
END:STANDARD
BEGIN:DAYLIGHT
TZOFFSETFROM:+0100
TZOFFSETTO:+0200
TZNAME:CEST
DTSTART:20250330T010000
END:DAYLIGHT
BEGIN:STANDARD
TZOFFSETFROM:+0200
TZOFFSETTO:+0100
TZNAME:CET
DTSTART:20251026T010000
END:STANDARD
BEGIN:DAYLIGHT
TZOFFSETFROM:+0100
TZOFFSETTO:+0200
TZNAME:CEST
DTSTART:20260329T010000
END:DAYLIGHT
BEGIN:STANDARD
TZOFFSETFROM:+0200
TZOFFSETTO:+0100
TZNAME:CET
DTSTART:20261025T010000
END:STANDARD
END:VTIMEZONE
BEGIN:VEVENT
DTSTART;TZID=Europe/Berlin:20251106T170000
DTEND;TZID=Europe/Berlin:20251106T193000
DTSTAMP:20260421T201147
CREATED:20250521T114111Z
LAST-MODIFIED:20251015T140334Z
UID:31297-1762448400-1762457400@coaching-und-trauerbegleitung.de
SUMMARY:Trauern und Weiterleben - eine Trauergruppe für Frauen über 9 Abende
DESCRIPTION:Der Verlust eines geliebten Menschen hinter­lässt tiefe Spuren. Trauer verän­dert den Blick auf die Welt\, zunächst ist nichts mehr\, wie es einmal war.\nTrauernde können große emotio­nale Schwan­kungen erleben. In dieser Lebens­phase entlastet es einen geschützten Raum zu haben. Es gibt viele Normen wie Trauer zu sein hat. Hier ist Jede mit ihrer Art des Umgangs willkommen. \nTrauer­zeit ist die Suche nach neuer Veran­ke­rung im Leben. Sie birgt neben dem Schmerz auch Impulse\, aus denen Kräfte entstehen und sich neue Wege öffnen können. \nDie Gruppe bietet einen Rahmen die eigenen Erfah­rungen mit denen anderer Frauen auszu­tau­schen und Orien­tie­rung zu finden. Mit Hilfe thema­ti­scher Anregungen zu Trauer­pro­zessen\, Verän­de­rung des Alltags und sozialer Bezie­hungen\, Aufbau lebens­stär­kender Kräfte\, … möchten wir Sie an zehn Abenden begleiten und unterstützen. \nKosten: 40 Euro pro Abend \nweitere Termine:  06.11.25\, 20.11.25\, 04.12.25\, 11.12.25\, 18.12.25\, 08.01.26\, 22.01.26\, 29.01.26\, 05.02.26
URL:https://coaching-und-trauerbegleitung.de/event/trauern-und-weiterleben-eine-trauergruppe-fuer-frauen-ueber-11-abende/
LOCATION:Kunstklinik Eppendorf\, Martinistr. 44a\, Hamburg
END:VEVENT
BEGIN:VEVENT
DTSTART;TZID=Europe/Berlin:20251121T170000
DTEND;TZID=Europe/Berlin:20251121T183000
DTSTAMP:20260421T201147
CREATED:20251015T141109Z
LAST-MODIFIED:20251015T141109Z
UID:31305-1763744400-1763749800@coaching-und-trauerbegleitung.de
SUMMARY:Zoomaustausch für Menschen\, die um ein geliebtes Tier trauern
DESCRIPTION:Zoom-Austausch für Menschen\, die um ein geliebtes Tier trauern \n\nSie mussten Abschied von Ihrem Tier nehmen\, vielleicht nach einer langen gemeinsamen Zeit\, und spüren deutlich ein hunde- oder katzenförmiges Loch im Herzen (alle anderen Tierarten sind liebevoll mitgemeint)? Sie können bzw. wollen damit nicht einfach zur Tagesordnung übergehen?\nEs ging alles viel zu schnell? Ihrem Tier ging es schlecht\, die Tierärztin riet zum Einschläfern\, Sie mussten diese schwere Entscheidung treffen und nun fühlen Sie sich vielleicht sogar schuldig?\nSie fühlen sich alleingelassen mit Ihrer Trauer und müssen sich von verständnislosen Mitmenschen Sprüche anhören wie: „Es war doch nur ein Tier. Kauf dir ein neues!“\nIn Ihnen tobt ein Widerstreit zwischen den Extremen „Nie wieder tue ich mir das an\, mir kommt kein neues Tier ins Haus!“ und „Ohne ein Tier im Haus fühlt es sich nicht wie ein Zuhause an!“?\nIhr Tier ist spurlos verschwunden\, entlaufen oder gestohlen? Sie fühlen sich hin- und hergerissen zwischen Hoffnung und Verzweiflung?\nIhnen steht der Abschied von Ihrem Tier noch bevor und Sie möchten darüber sprechen?\n\nCirca alle vier Wochen an einem Freitagabende bieten wir (Bettina Kok und ich) über Zoom eine offene Trauergruppe für Menschen an\, die sich mit anderen Tier-Trauernden austauschen möchten. \nTermine: 17.10.25\, 21.11.25\, 19.12.25\, 23.01.26\, 06.02.26\, 13.03.26\, 17.04.26\, 29.05.26\, 19.06.26\, 10.07.26\, 18.09.26\, 16.10.26\, 20.11.26\, 18.12.26
URL:https://coaching-und-trauerbegleitung.de/event/zoomaustausch-fuer-menschen-die-um-ein-geliebtes-tier-trauern-6/
END:VEVENT
END:VCALENDAR