BEGIN:VCALENDAR
VERSION:2.0
PRODID:-//Barbara Bischof - ECPv6.15.20//NONSGML v1.0//EN
CALSCALE:GREGORIAN
METHOD:PUBLISH
X-WR-CALNAME:Barbara Bischof
X-ORIGINAL-URL:https://coaching-und-trauerbegleitung.de
X-WR-CALDESC:Veranstaltungen für Barbara Bischof
REFRESH-INTERVAL;VALUE=DURATION:PT1H
X-Robots-Tag:noindex
X-PUBLISHED-TTL:PT1H
BEGIN:VTIMEZONE
TZID:Europe/Berlin
BEGIN:DAYLIGHT
TZOFFSETFROM:+0100
TZOFFSETTO:+0200
TZNAME:CEST
DTSTART:20250330T010000
END:DAYLIGHT
BEGIN:STANDARD
TZOFFSETFROM:+0200
TZOFFSETTO:+0100
TZNAME:CET
DTSTART:20251026T010000
END:STANDARD
BEGIN:DAYLIGHT
TZOFFSETFROM:+0100
TZOFFSETTO:+0200
TZNAME:CEST
DTSTART:20260329T010000
END:DAYLIGHT
BEGIN:STANDARD
TZOFFSETFROM:+0200
TZOFFSETTO:+0100
TZNAME:CET
DTSTART:20261025T010000
END:STANDARD
BEGIN:DAYLIGHT
TZOFFSETFROM:+0100
TZOFFSETTO:+0200
TZNAME:CEST
DTSTART:20270328T010000
END:DAYLIGHT
BEGIN:STANDARD
TZOFFSETFROM:+0200
TZOFFSETTO:+0100
TZNAME:CET
DTSTART:20271031T010000
END:STANDARD
END:VTIMEZONE
BEGIN:VEVENT
DTSTART;TZID=Europe/Berlin:20260123T170000
DTEND;TZID=Europe/Berlin:20260123T183000
DTSTAMP:20260421T231813
CREATED:20251015T141320Z
LAST-MODIFIED:20251015T141320Z
UID:31309-1769187600-1769193000@coaching-und-trauerbegleitung.de
SUMMARY:Zoom-Austausch für Menschen\, die um ein geliebtes Tier trauern
DESCRIPTION:Zoom-Austausch für Menschen\, die um ein geliebtes Tier trauern \n\nSie mussten Abschied von Ihrem Tier nehmen\, vielleicht nach einer langen gemeinsamen Zeit\, und spüren deutlich ein hunde- oder katzenförmiges Loch im Herzen (alle anderen Tierarten sind liebevoll mitgemeint)? Sie können bzw. wollen damit nicht einfach zur Tagesordnung übergehen?\nEs ging alles viel zu schnell? Ihrem Tier ging es schlecht\, die Tierärztin riet zum Einschläfern\, Sie mussten diese schwere Entscheidung treffen und nun fühlen Sie sich vielleicht sogar schuldig?\nSie fühlen sich alleingelassen mit Ihrer Trauer und müssen sich von verständnislosen Mitmenschen Sprüche anhören wie: „Es war doch nur ein Tier. Kauf dir ein neues!“\nIn Ihnen tobt ein Widerstreit zwischen den Extremen „Nie wieder tue ich mir das an\, mir kommt kein neues Tier ins Haus!“ und „Ohne ein Tier im Haus fühlt es sich nicht wie ein Zuhause an!“?\nIhr Tier ist spurlos verschwunden\, entlaufen oder gestohlen? Sie fühlen sich hin- und hergerissen zwischen Hoffnung und Verzweiflung?\nIhnen steht der Abschied von Ihrem Tier noch bevor und Sie möchten darüber sprechen?\n\nCirca alle vier Wochen an einem Freitagabende bieten wir (Bettina Kok und ich) über Zoom eine offene Trauergruppe für Menschen an\, die sich mit anderen Tier-Trauernden austauschen möchten. \nTermine: 17.10.25\, 21.11.25\, 19.12.25\, 23.01.26\, 06.02.26\, 13.03.26\, 17.04.26\, 29.05.26\, 19.06.26\, 10.07.26\, 18.09.26\, 16.10.26\, 20.11.26\, 18.12.26
URL:https://coaching-und-trauerbegleitung.de/event/zoom-austausch-fuer-menschen-die-um-ein-geliebtes-tier-trauern-8/
END:VEVENT
BEGIN:VEVENT
DTSTART;TZID=Europe/Berlin:20260124T120000
DTEND;TZID=Europe/Berlin:20260124T180000
DTSTAMP:20260421T231813
CREATED:20251121T191321Z
LAST-MODIFIED:20251121T191457Z
UID:31334-1769256000-1769277600@coaching-und-trauerbegleitung.de
SUMMARY:Tagesworkshop für Frauen: Wie kann ich mit meiner Trauer leben?
DESCRIPTION:Tagesworkshop für Frauen \nWie kann ich mit meiner Trauer leben? \nTrauerzeit ist die Suche nach neuer Verankerung im Leben. Sie birgt neben dem Schmerz auch Impulse\, aus denen Kräfte entstehen und sich neue Wege öffnen können. \nIn unserem Trauerworkshop betrachten wir die Fragen: Wie erlebe ich meine Trauer und was hilft mir mit ihr umzugehen? \nMit Hilfe von kreativen Methoden\, Gespräch und Körperwahrnehmung möchten wir Anregungen zum Umgang mit dem veränderten Alltag geben und den Blick auf den Aufbau lebensstärkender Kräfte richten. \nTermin: Samstag\, 24. Januar 2026\, 12:00-18:00 Uhr\, im KulturKlinker Barmbek\, Lorichstr. 28A. Der Termin findet statt mit 4-8 Teilnehmerinnen. \nKosten: € 95 \nAnmeldung: spätestens bis 12. Januar 2026 per Mail oder telefonisch und mit Überweisung des Teilnehmerbetrags auf das Konto Barbara Bischof bei der Hamburger Sparkasse IBAN: DE02 2005 0550 1032 9159 42 BIC: HASPDEHHXXX(Sollte der Termin ausfallen\, wird das Geld zurück überwiesen.) \nÜber uns:      Elisabeth Mros\, Trauerbegleiterin (BVT)\, Dipl. Theologin\, Körpertherapeutin \nBarbara Bischof\, Trauerbegleiterin (BVT)\, Dipl. Psychologin\, Coach \n  \nKontakt: info@therapie-mros.de 040-39 90 65 80 oder  \nb.bischof@coaching-und-trauerbegleitung.de 0179-13 00 024 \n  \n 
URL:https://coaching-und-trauerbegleitung.de/event/tagesworkshop-fuer-frauen-wie-kann-ich-mit-meiner-trauer-leben/
LOCATION:Bürgerhaus Barmbek\, Lorichsstr. 28A\, Hamburg\, 22307\, Deutschland
END:VEVENT
END:VCALENDAR